BEGIN:VCALENDAR
VERSION:2.0
PRODID:-//Tukios.com/
BEGIN:VEVENT
UID:2cb82a3f-ca06-46bd-8946-3fe88c3c1160@www.castlevalleyfunerals.com
DTSTAMP:20260421T003629Z
DTSTART:20260423T170000Z
DTEND:20260423T180000Z
SUMMARY:Graveside Service
DESCRIPTION:
URL:https://www.castlevalleyfunerals.com/obituaries/james-clanton
LOCATION:Cliffview Cemetery  Cliffview Cemetery  Price UT 84501
GEO:39.6130434;-110.7824102
END:VEVENT
END:VCALENDAR