BEGIN:VCALENDAR
VERSION:2.0
PRODID:-//Tukios.com/
BEGIN:VEVENT
UID:b2874177-b520-4aa3-8ddc-ce013581d8d4@www.castlevalleyfunerals.com
DTSTAMP:20260421T003629Z
DTSTART:20260423T160000Z
DTEND:20260423T164500Z
SUMMARY:Visitation
DESCRIPTION:
URL:https://www.castlevalleyfunerals.com/obituaries/james-clanton
LOCATION: 680 E 100 S  Price UT 84501
GEO:39.5978004;-110.7982489
END:VEVENT
END:VCALENDAR