BEGIN:VCALENDAR
VERSION:2.0
PRODID:-//Tukios.com/
BEGIN:VEVENT
UID:f9ac902a-99fd-4e69-b4bb-ddda6b5375d9@www.castlevalleyfunerals.com
DTSTAMP:20260424T101309Z
DTSTART:20260501T170000Z
DTEND:20260501T180000Z
SUMMARY:Graveside Service
DESCRIPTION:
URL:https://www.castlevalleyfunerals.com/obituaries/florence-grundvig
LOCATION:Huntington City Cemetery 600 N 400 W  Huntington UT 84528
GEO:39.3380932;-110.9738159
END:VEVENT
END:VCALENDAR