BEGIN:VCALENDAR
VERSION:2.0
PRODID:-//Tukios.com/
BEGIN:VEVENT
UID:0f434487-e569-4694-816e-d081bc46a3af@www.castlevalleyfunerals.com
DTSTAMP:20260424T101308Z
DTSTART:20260501T153000Z
DTEND:20260501T163000Z
SUMMARY:Visitation
DESCRIPTION:
URL:https://www.castlevalleyfunerals.com/obituaries/florence-grundvig
LOCATION: 680 E 100 S  Price UT 84501
GEO:39.5978004;-110.7982489
END:VEVENT
END:VCALENDAR