BEGIN:VCALENDAR
VERSION:2.0
PRODID:-//Tukios.com/
BEGIN:VEVENT
UID:b1d9a75a-3703-4885-a0c5-9800a82bb2e0@www.castlevalleyfunerals.com
DTSTAMP:20260421T082823Z
DTSTART:20260307T180000Z
DTEND:20260307T190000Z
SUMMARY:Graveside Service
DESCRIPTION:
URL:https://www.castlevalleyfunerals.com/obituaries/christine-jensen
LOCATION:Bountiful City Cemetery 2224 South 200 West  Bountiful UT 84010
GEO:40.8665994;-111.8874136
END:VEVENT
END:VCALENDAR